BEGIN:VCALENDAR
VERSION:2.0
PRODID:-//wp-events-plugin.com//5.61//EN
BEGIN:VEVENT
UID:da9fb7d2-10c4-4e4e-ad9d-ed4981337651
DTSTART:20151010T060000Z
DTEND:20151010T110000Z
DTSTAMP:20150806T071110Z
SUMMARY:TEK BARJE 2015 - TEK BARJE - 10.10.2015 - 8:00 - 13:00
DESCRIPTION:Si lahko zamislite boljšo predpripravo na Ljubljanskega in vse ostale jesenske maratone\, kot je rahel jesenski drnec skozi Krajinski park Ljubljansko barje\, kjer vam v zlati jutranji zori skozi kopreno meglic z leve žvrgolijo ogrožene ptičje vrste\, z desne pa dehtijo redke barjanske rastline? V zraku pa odmevajo udarci vaših superg\, enakomerno dihanje\,… vas in ostalih stotih in več tekaških navdušencev\, ki se vsak oktober podajo na tradicionalni tek po barjanskih makadamskih cestah v neposredni bližini romantičnega gradu Bistra in bližnje istoimenske skrivnostne reke. Dobra družba\, prijazna postrežba z jedačo in pijačo\, na koncu pa še kolajna\, za najboljše tudi iz plemenitih kovin. Vse to in še več je naš tradicionalni rekreacijski Tek Barje!\n\nKDAJ?\nV soboto\, 10. oktobra 2015\, od 10. ure dalje.\nPrijave tekmovalcev od 8. ure dalje. Razglasitev rezultatov je predvidena ob 13. uri.\n\nKJE?\nV bližini slikovitega gradu Bistra v Bistri\, na pol poti med Vrhniko in Borovnico. Teklo se bo po barjanskih makadamskih poteh.\n\nDOLŽINA?\n500\, 1000\, 2000\, 5320 ali 8500 metrov.\n\nPRIJAVNINA?\nZa otroke (do 15 let) 2 EUR\, za ostale pa 10 EUR. V prijavnino za odrasle je všteta malica. Vsak udeleženec ob prihodu v cilj prejme spominsko kolajno.\n\nPREDPRIJAVE (ne obvezne\, a zaželene):\nTVD Partizan Borovnica\nDamijan Remec\nGSM: 040 451 115\; E-pošta: tek.barje@gmail.com\; www.tekbarje.si
LOCATION:TEK BARJE
URL:http://www.tekaskeprireditve.si/pregled-tekaskih-prireditev/tek-barje-2015/
END:VEVENT
END:VCALENDAR